BEGIN:VCALENDAR
VERSION:2.0
PRODID:-//De Bonnetterie//Landing//NL
CALSCALE:GREGORIAN
METHOD:PUBLISH
X-WR-TIMEZONE:Europe/Brussels
BEGIN:VTIMEZONE
TZID:Europe/Brussels
X-LIC-LOCATION:Europe/Brussels
BEGIN:DAYLIGHT
TZOFFSETFROM:+0100
TZOFFSETTO:+0200
TZNAME:CEST
DTSTART:19700329T020000
RRULE:FREQ=YEARLY;BYMONTH=3;BYDAY=-1SU
END:DAYLIGHT
BEGIN:STANDARD
TZOFFSETFROM:+0200
TZOFFSETTO:+0100
TZNAME:CET
DTSTART:19701025T030000
RRULE:FREQ=YEARLY;BYMONTH=10;BYDAY=-1SU
END:STANDARD
END:VTIMEZONE
BEGIN:VEVENT
UID:21d8a52fef9668f0@debonnetterie
DTSTAMP:20260424T134810Z
SUMMARY:Tentoonstelling — Sarah De Schepper
DTSTART;TZID=Europe/Brussels:20260607T110000
DTEND;TZID=Europe/Brussels:20260607T170000
LOCATION:De Bonnetterie\, Bedevaartstraat 39a\, 8700 Tielt
DESCRIPTION:Vernissage: Zondag 7 juni — 11:00 tot 17:00\n\nLooptijd tentoonstelling: 13 — 21 juni 2026\nOpen:\n	Zaterdag 14:00 tot 18:00\n	Zondag 11:00 tot 18:00\n\nMeer info Sarah De Schepper : https://www.debonnetterie.be/kunstenaar/sarah-de-schepper
URL:https://www.debonnetterie.be/kunstenaar/sarah-de-schepper
END:VEVENT
END:VCALENDAR
